BEGIN:VCALENDAR
VERSION:2.0
PRODID:-//Confident SOLE - ECPv6.15.13//NONSGML v1.0//EN
CALSCALE:GREGORIAN
METHOD:PUBLISH
X-WR-CALNAME:Confident SOLE
X-ORIGINAL-URL:https://confidentsole.org
X-WR-CALDESC:Events for Confident SOLE
REFRESH-INTERVAL;VALUE=DURATION:PT1H
X-Robots-Tag:noindex
X-PUBLISHED-TTL:PT1H
BEGIN:VTIMEZONE
TZID:UTC
BEGIN:STANDARD
TZOFFSETFROM:+0000
TZOFFSETTO:+0000
TZNAME:UTC
DTSTART:20220101T000000
END:STANDARD
END:VTIMEZONE
BEGIN:VEVENT
DTSTART;TZID=UTC:20250913T130000
DTEND;TZID=UTC:20250913T130000
DTSTAMP:20260423T231450
CREATED:20250626T180848Z
LAST-MODIFIED:20250820T164718Z
UID:859-1757768400-1757768400@confidentsole.org
SUMMARY:Open House
DESCRIPTION:Save the Date! Confident S.O.L.E. Open House\nSaturday\, September 13th / 1 pm-3 pm\nMark your calendar and save the date to join us at our Open House on Saturday\, September 13th! Join us to learn more about the Confident S.O.L.E. organization\, our programs for middle and high school girls\, meet our team\, and register for Fall programming! \n  \nREGISTRATION IS REQUIRED. Register at the link below: \nhttps://www.eventbrite.com/e/confident-sole-open-house-empower-engage-enroll-tickets-1520404634189 \n  \nWhen: Saturday\, September 13th from 1 pm-3 pm \nWhere: 4000 Portage Street\, Suite 103  Kalamazoo\, MI 49001 \n  \n  \n  \n  \n  \n 
URL:https://confidentsole.org/event/open-house-sept-13-2025/
LOCATION:Confident SOLE\, 4000 Portage Street\, Kalamazoo\, 49001\, United States
ATTACH;FMTTYPE=image/png:https://confidentsole.org/wp-content/uploads/2024/08/CS-Open-House-Save-the-Date-Banner-2025-1.png
END:VEVENT
BEGIN:VEVENT
DTSTART;TZID=UTC:20250521T120000
DTEND;TZID=UTC:20250521T130000
DTSTAMP:20260423T231450
CREATED:20250212T211110Z
LAST-MODIFIED:20250212T211110Z
UID:847-1747828800-1747832400@confidentsole.org
SUMMARY:Meet the Executive Director Monthly Lunch and Learn
DESCRIPTION:An opportunity to engage stakeholders\, share updates\, and foster a deeper connection with the community.\nEvent Name: Meet the Executive Director: Confident SOLE Lunch & Learn\nDuration: 1 Hour (Monthly) Every 3rd Wednesday\nPurpose: To introduce participants to Confident SOLE’s mission\, share updates on programs\, and provide an opportunity for Q&A with the Executive Director.\nAudience: Donors\, community partners\, volunteers\, and prospective supporters\nFormat: Informal yet informative with a focus on relationship building\nLocation: 4000 Portage St Suite 103 Kalamazoo\, MI 49001\nTime: 12pm-1pm \nREGISTER HERE\n  \n \n  \n  \n  \n 
URL:https://confidentsole.org/event/meet-the-executive-director-monthly-lunch-and-learn-may-21-2025/
LOCATION:Confident SOLE\, 4000 Portage Street\, Kalamazoo\, 49001\, United States
CATEGORIES:Lunch & Learn
END:VEVENT
BEGIN:VEVENT
DTSTART;TZID=UTC:20250416T120000
DTEND;TZID=UTC:20250416T130000
DTSTAMP:20260423T231450
CREATED:20250212T210946Z
LAST-MODIFIED:20250212T210946Z
UID:848-1744804800-1744808400@confidentsole.org
SUMMARY:Meet the Executive Director Monthly Lunch and Learn
DESCRIPTION:An opportunity to engage stakeholders\, share updates\, and foster a deeper connection with the community.\nEvent Name: Meet the Executive Director: Confident SOLE Lunch & Learn\nDuration: 1 Hour (Monthly) Every 3rd Wednesday\nPurpose: To introduce participants to Confident SOLE’s mission\, share updates on programs\, and provide an opportunity for Q&A with the Executive Director.\nAudience: Donors\, community partners\, volunteers\, and prospective supporters\nFormat: Informal yet informative with a focus on relationship building\nLocation: 4000 Portage St Suite 103 Kalamazoo\, MI 49001\nTime: 12pm-1pm \nREGISTER HERE\n  \n \n  \n  \n  \n 
URL:https://confidentsole.org/event/meet-the-executive-director-monthly-lunch-and-learn-apr-16-2025/
LOCATION:Confident SOLE\, 4000 Portage Street\, Kalamazoo\, 49001\, United States
CATEGORIES:Lunch & Learn
END:VEVENT
BEGIN:VEVENT
DTSTART;TZID=UTC:20250322T100000
DTEND;TZID=UTC:20250322T150000
DTSTAMP:20260423T231450
CREATED:20250122T183456Z
LAST-MODIFIED:20250130T173337Z
UID:800-1742637600-1742655600@confidentsole.org
SUMMARY:Say Yes to the Prom Dress
DESCRIPTION:The annual prom dress drive is a heartwarming community initiative that aims to make prom dreams come true for high school students within the Kalamazoo community. Organized by Miss Mitten; Rahnyi Kelly in collaboration w/Confident S.O.L.E.\, local volunteers and organizations\, the drive collects gently used and new dresses\, shoes\, and accessories from generous donors in the community. These donations are then sorted\, cleaned\, and displayed in a makeshift boutique setting\, where students can browse and select their dream attire free of charge. The atmosphere buzzes with excitement and anticipation as teenagers explore racks of glamorous gowns\, sparkling jewelry\, and elegant heels\, envisioning the perfect ensemble for their special night. Not only does the prom dress drive provide students with the opportunity to attend prom in style\, but it also fosters a sense of inclusivity and support within the Kalamazoo community\, demonstrating the power of collective kindness and generosity. \nDonations: If you’re unable to donate gently used or new dresses\, shoes\, and accessories\, we’re also accepting monetary donations to support upcoming program events like the Prom Dress Drive\, Mommy and Me Brunch!  \n  \nCollection Period: 1/27/25-3/12/25 \nCollecting the Following Items: \n\nClean\, gently used or new dresses – all sizes\nProm dresses\, cocktail\, bridesmaid\, evening gowns\nShoes – in good condition\nAccessories – clutches\, handbags\, jewelry\, etc\n\nDrop-Off Locations:  \nThe following drop off location will be accepting dresses\, shoes\, and accessories during the following days and hours: \nConfident S.O.L.E. \n4000 Portage Street Ste 103\, Kalamazoo\, MI 49001 \nContact Information: \n\nProgram Director\, Trenae Dunigan 269-364-8610\nExecutive Director\, Dominique Hunt 269-270-6019\n\nDrop-Off Dates/Times:  \n\n5:30pm-7:30pm: 1/22\, 2/10\, 2/12\, 2/24\, 2/26\, 3/10\, 3/12\n11am-1pm: 1/31\, 2/22\n\n  \nGiveaway Date/Times: \n3/22/25 from 10am-3pm \nConfident S.O.L.E. Office  \n4000 Portage St. Kalamazoo\, MI 49001 \nconnect@urconfident.com \n  \n*By appointment only! Appointments for the prom dress drive ensure that each student receives personalized attention and assistance in finding their ideal attire. By scheduling appointments\, organizers can manage the flow of attendees\, ensuring a smooth and enjoyable experience for everyone involved. \nMAKE AN APPOINTMENT HERE\n  \n  \nThe Michigan Club is an educational non-profit membership organization of undergraduates at Tennessee State University. The Club brings students who reside in the state of Michigan together in support of each other and to promote the objectives of Tennessee State University through the establishment and maintenance of contact among the University\, its present\, and prospective students.  \nMiss Mitten for the 2023-2024 academic school year; Rahnyi Kelley; face and voice for the Michigan club at Tennessee State University. [pictured below] \n  \n \n  \n  \n 
URL:https://confidentsole.org/event/say-yes-prom-dress-2025/
LOCATION:Confident SOLE\, 4000 Portage Street\, Kalamazoo\, 49001\, United States
CATEGORIES:Say Yes to the Prom Dress
ATTACH;FMTTYPE=image/png:https://confidentsole.org/wp-content/uploads/2025/01/1-1.png
END:VEVENT
BEGIN:VEVENT
DTSTART;TZID=UTC:20250319T120000
DTEND;TZID=UTC:20250319T130000
DTSTAMP:20260423T231450
CREATED:20250212T210810Z
LAST-MODIFIED:20250212T210810Z
UID:843-1742385600-1742389200@confidentsole.org
SUMMARY:Meet the Executive Director Monthly Lunch and Learn
DESCRIPTION:An opportunity to engage stakeholders\, share updates\, and foster a deeper connection with the community.\nEvent Name: Meet the Executive Director: Confident SOLE Lunch & Learn\nDuration: 1 Hour (Monthly) Every 3rd Wednesday\nPurpose: To introduce participants to Confident SOLE’s mission\, share updates on programs\, and provide an opportunity for Q&A with the Executive Director.\nAudience: Donors\, community partners\, volunteers\, and prospective supporters\nFormat: Informal yet informative with a focus on relationship building\nLocation: 4000 Portage St Suite 103 Kalamazoo\, MI 49001\nTime: 12pm-1pm \nREGISTER HERE\n  \n \n  \n  \n  \n 
URL:https://confidentsole.org/event/meet-the-executive-director-monthly-lunch-and-learn-mar-19-2025/
LOCATION:Confident SOLE\, 4000 Portage Street\, Kalamazoo\, 49001\, United States
CATEGORIES:Lunch & Learn
END:VEVENT
BEGIN:VEVENT
DTSTART;TZID=UTC:20250219T120000
DTEND;TZID=UTC:20250219T130000
DTSTAMP:20260423T231450
CREATED:20250212T205444Z
LAST-MODIFIED:20250212T212901Z
UID:840-1739966400-1739970000@confidentsole.org
SUMMARY:Meet the Executive Director Monthly Lunch and Learn
DESCRIPTION:An opportunity to engage stakeholders\, share updates\, and foster a deeper connection with the community.\nEvent Name: Meet the Executive Director: Confident SOLE Lunch & Learn\nDuration: 1 Hour (Monthly) Every 3rd Wednesday Starting February 19th\nPurpose: To introduce participants to Confident SOLE’s mission\, share updates on programs\, and provide an opportunity for Q&A with the Executive Director.\nAudience: Donors\, community partners\, volunteers\, and prospective supporters\nFormat: Informal yet informative with a focus on relationship building\nLocation: 4000 Portage St Suite 103 Kalamazoo\, MI 49001\nTime: 12pm-1pm \nREGISTER HERE\n  \n \n  \n  \n  \n 
URL:https://confidentsole.org/event/meet-executive-director-lunch-learn-feb-19-2025/
LOCATION:Confident SOLE\, 4000 Portage Street\, Kalamazoo\, 49001\, United States
CATEGORIES:Lunch & Learn
END:VEVENT
BEGIN:VEVENT
DTSTART;VALUE=DATE:20240925
DTEND;VALUE=DATE:20240929
DTSTAMP:20260423T231450
CREATED:20240812T161057Z
LAST-MODIFIED:20240812T161134Z
UID:734-1727222400-1727567999@confidentsole.org
SUMMARY:HBCU Tour 2024
DESCRIPTION:Join us for the HBCU College Tour in September!\nOur most life-changing event of the year for our scholars in our annual HBCU Tour!\nIn 2024\, we’re heading to North Carolina to see the sights\, including the campuses of North Carolina Central University and North Carolina AT&T State University. The tour is open to high school girls only\, and helps to boost their confidence and expose them to potential paths for their futures. \nUPDATE: ALL SPOTS ARE FILLED FOR THE 2024 TOUR \n  \n 
URL:https://confidentsole.org/event/hbcu-tour-2024/
CATEGORIES:College Tour
ATTACH;FMTTYPE=image/png:https://confidentsole.org/wp-content/uploads/2024/06/Copy-of-HBCU-Tour-2023-Favorite-Parts.png
END:VEVENT
BEGIN:VEVENT
DTSTART;TZID=UTC:20230330T200000
DTEND;TZID=UTC:20230331T000000
DTSTAMP:20260423T231450
CREATED:20230320T164010Z
LAST-MODIFIED:20230320T164201Z
UID:389-1680206400-1680220800@confidentsole.org
SUMMARY:Sneaker Ball
DESCRIPTION:Join us for the 2nd Annual Sneaker Ball! Come out Thursday\, March 30 at The Fountains Event Center (535 S Riverview Dr.\, Parchment). Win some great raffle prizes like AirPods\, a TV\, and more! Come dressed to impress to get crowned and win a $200 cash prize! \nOpen to all Kalamazoo-area middle and high schoolers. $5 cover fee. Student ID required. \nWe hope to see you there!
URL:https://confidentsole.org/event/sneaker-ball/
LOCATION:The Fountains Event Center\, 535 S. Riverview Dr\, Parchment\, MI\, 49004\, United States
ATTACH;FMTTYPE=image/png:https://confidentsole.org/wp-content/uploads/2023/03/Sneaker-Ball-Social-DJ.png
END:VEVENT
BEGIN:VEVENT
DTSTART;VALUE=DATE:20230325
DTEND;VALUE=DATE:20230326
DTSTAMP:20260423T231450
CREATED:20230320T164724Z
LAST-MODIFIED:20230320T164724Z
UID:397-1679702400-1679788799@confidentsole.org
SUMMARY:LIT Training Series
DESCRIPTION:Leader In Training Series
URL:https://confidentsole.org/event/lit-training-series/
LOCATION:Confident SOLE\, 4000 Portage Street\, Kalamazoo\, 49001\, United States
END:VEVENT
BEGIN:VEVENT
DTSTART;VALUE=DATE:20230315
DTEND;VALUE=DATE:20230316
DTSTAMP:20260423T231450
CREATED:20230320T164641Z
LAST-MODIFIED:20230320T164641Z
UID:394-1678838400-1678924799@confidentsole.org
SUMMARY:LIT Monthly Meeting
DESCRIPTION:Leader In Training Monthly Meeting\, Team Building
URL:https://confidentsole.org/event/lit-monthly-meeting/
LOCATION:Confident SOLE\, 4000 Portage Street\, Kalamazoo\, 49001\, United States
END:VEVENT
END:VCALENDAR